BEGIN:VCALENDAR
VERSION:2.0
PRODID:-//www.discoverthecoast.com//NONSGML kigkonsult.se iCalcreator 2.39.
 1//
CALSCALE:GREGORIAN
METHOD:PUBLISH
UID:092caaaa-0543-4ef1-a6c0-9766ebc3fd39
X-WR-CALNAME:www.discoverthecoast.com
X-WR-CALDESC:www.discoverthecoast.com
X-WR-TIMEZONE:America/Los_Angeles
X-LIC-LOCATION:America/Los_Angeles
BEGIN:VEVENT
UID:210f035c-1f41-45e5-8da1-442cd03b011c
DTSTAMP:20260425T031409Z
CLASS:PUBLIC
DTSTART;TZID=America/Los_Angeles:20260425T083000
DTEND;TZID=America/Los_Angeles:20260425T130000
SUMMARY:Joy - Womens Event
TRANSP:OPAQUE
BEGIN:VALARM
ACTION:DISPLAY
DESCRIPTION:Joy - Womens Event
TRIGGER:-PT15M
END:VALARM
END:VEVENT
END:VCALENDAR
